Workbook

Sheet Cashflow Summary
A1: Rolling Weekly Cashflow Projection - 3 Months
A2: Week Ended | B2: 41435 | C2: =B2+7 -> 41442 | D2: =C2+7 -> 41449 | E2: =D2+7 -> 41456 | F2: =E2+7 -> 41463 | G2: =F2+7 -> 41470 | H2: =G2+7 -> 41477 | I2: =H2+7 -> 41484 | J2: =I2+7 -> 41491 | ... N2: =M2+7 -> 41519 | O2: Total
A3: Opening Bank Balance | B3: 24000 | C3: =B6 -> 7424 | D3: =C6 -> 36148.46 | E3: =D6 -> 12128.92 | F3: =E6 -> 13364.38 | G3: =F6 -> 10544.84 | H3: =G6 -> 35035.3 | I3: =H6 -> 21259.76 | J3: =I6 -> 27194.22 | ... N3: =M6 -> 13050.06 | O3: =B3 -> 24000
A4: Cash In | B4: ='Cash In'!B27 -> 20000 | C4: ='Cash In'!C27 -> 40000 | D4: ='Cash In'!D27 -> 20000 | E4: ='Cash In'!E27 -> 30000 | F4: ='Cash In'!F27 -> 0 | G4: ='Cash In'!G27 -> 30000 | H4: ='Cash In'!H27 -> 0 | I4: ='Cash In'!I27 -> 28000 | ... O4: ='Cash In'!O27 -> 208000
A5: Cash Out | B5: ='Cash Out'!B43 -> 36576 | C5: ='Cash Out'!C43 -> 11275.54 | D5: ='Cash Out'!D43 -> 44019.54 | E5: ='Cash Out'!E43 -> 28764.54 | F5: ='Cash Out'!F43 -> 2819.54 | G5: ='Cash Out'!G43 -> 5509.54 | H5: ='Cash Out'!H43 -> 13775.54 | I5: ='Cash Out'!I43 -> 22065.54 | ... O5: ='Cash Out'!O43 -> 197789.02
A6: Closing Bank Balance (Cash at Bank) | B6: =B3+B4-B5 -> 7424 | C6: =C3+C4-C5 -> 36148.46 | D6: =D3+D4-D5 -> 12128.92 | E6: =E3+E4-E5 -> 13364.38 | F6: =F3+F4-F5 -> 10544.84 | G6: =G3+G4-G5 -> 35035.3 | H6: =H3+H4-H5 -> 21259.76 | I6: =I3+I4-I5 -> 27194.22 | ... O6: =O3+O4-O5 -> 34210.98
A7: Credit Limit | C7: =$B$7 -> 0 | D7: =$B$7 -> 0 | E7: =$B$7 -> 0 | F7: =$B$7 -> 0 | G7: =$B$7 -> 0 | H7: =$B$7 -> 0 | I7: =$B$7 -> 0 | J7: =$B$7 -> 0 | ... O7: =$B$7 -> 0
A8: Available Credit | B8: =B7+B6 -> 7424 | C8: =C7+C6 -> 36148.46 | D8: =D7+D6 -> 12128.92 | E8: =E7+E6 -> 13364.38 | F8: =F7+F6 -> 10544.84 | G8: =G7+G6 -> 35035.3 | H8: =H7+H6 -> 21259.76 | I8: =I7+I6 -> 27194.22 | ... O8: =O7+O6 -> 34210.98
M10: Enter data in shaded cells only

Sheet Cash In
A1: Rolling Weekly Cashflow Projection - CASH IN
B2: ='Cashflow Summary'!B2 -> 41435 | C2: =B2+7 -> 41442 | D2: =C2+7 -> 41449 | E2: =D2+7 -> 41456 | F2: =E2+7 -> 41463 | G2: =F2+7 -> 41470 | H2: =G2+7 -> 41477 | I2: =H2+7 -> 41484 | J2: =I2+7 -> 41491 | ... N2: =M2+7 -> 41519 | O2: Total
A3: Main debtors
A4: Evan Street | B4: 20000 | D4: 20000 | E4: 20000 | G4: 20000 | I4: 8000 | O4: =SUM(B4:N4) -> 88000
O5: =SUM(B5:N5) -> 0
A6: Maple Ave | C6: 40000 | E6: 10000 | O6: =SUM(B6:N6) -> 50000
O7: =SUM(B7:N7) -> 0
A8: Ridge Road | G8: 10000 | I8: 20000 | K8: 20000 | M8: 20000 | O8: =SUM(B8:N8) -> 70000
O9: =SUM(B9:N9) -> 0
O10: =SUM(B10:N10) -> 0
O11: =SUM(B11:N11) -> 0
O12: =SUM(B12:N12) -> 0
O13: =SUM(B13:N13) -> 0
O14: =SUM(B14:N14) -> 0
O15: =SUM(B15:N15) -> 0
O16: =SUM(B16:N16) -> 0
O17: =SUM(B17:N17) -> 0
O18: =SUM(B18:N18) -> 0
O19: =SUM(B19:N19) -> 0
O20: =SUM(B20:N20) -> 0
... O25: =SUM(B25:N25) -> 0
A26: Equity Contribution | O26: =SUM(B26:N26) -> 0
A27: Total Cash In | B27: =SUM(B4:B26) -> 20000 | C27: =SUM(C4:C26) -> 40000 | D27: =SUM(D4:D26) -> 20000 | E27: =SUM(E4:E26) -> 30000 | F27: =SUM(F4:F26) -> 0 | G27: =SUM(G4:G26) -> 30000 | H27: =SUM(H4:H26) -> 0 | I27: =SUM(I4:I26) -> 28000 | ... O27: =SUM(O4:O26) -> 208000

Sheet Cash Out
A1: Rolling Weekly Cashflow Projection - CASH OUT
B2: 41435 | C2: 41442 | D2: 41449 | E2: 41456 | F2: 41463 | G2: 41470 | H2: 41477 | I2: 41484 | J2: 41491 | K2: 41498 | L2: 41505 | M2: 41512 | N2: 41519 | O2: Total
A3: Main creditors
A4: Mobile Phone | B4: 160 | E4: 160 | J4: 160 | N4: 160 | O4: =SUM(B4:N4) -> 640
A5: all purpose tiles | O5: =SUM(B5:N5) -> 0
A6: Bunnings | D6: 100 | I6: 100 | M6: 100 | O6: =SUM(B6:N6) -> 300
A7: Hudson | D7: 3000 | I7: 1000 | M7: 1000 | O7: =SUM(B7:N7) -> 5000
A8: Jim Bins | B8: 500 | F8: 500 | K8: 1000 | O8: =SUM(B8:N8) -> 2000
A9: Boral | O9: =SUM(B9:N9) -> 0
A10: Sand & Soil | D10: 400 | I10: 500 | O10: =SUM(B10:N10) -> 900
A11: Frame and Truss | D11: 9000 | K11: 10000 | M11: 10000 | O11: =SUM(B11:N11) -> 29000
A12: Telstra | E12: 180 | I12: 180 | M12: 180 | O12: =SUM(B12:N12) -> 540
A13: Excavation | B13: 2000 | H13: 1500 | O13: =SUM(B13:N13) -> 3500
A14: Kitchen Works | B14: 17000 | O14: =SUM(B14:N14) -> 17000
A15: Brick Supplies | J15: 2000 | O15: =SUM(B15:N15) -> 2000
A16: Floor Wall Tiler | D16: 5000 | O16: =SUM(B16:N16) -> 5000
A17: Fuel Card | D17: 200 | I17: 200 | M17: 200 | O17: =SUM(B17:N17) -> 600
A18: Gyp sub | B18: 9000 | K18: 5000 | O18: =SUM(B18:N18) -> 14000
A19: GST | E19: 1000 | I19: 1000 | M19: 1000 | O19: =SUM(B19:N19) -> 3000
A20: Tax | E20: 1000 | I20: 1000 | M20: 1000 | O20: =SUM(B20:N20) -> 3000
A21: PAYG Withheld | E21: 1105 | O21: =SUM(B21:N21) -> 1105
A22: Electrical sub | H22: 10000 | O22: =SUM(B22:N22) -> 10000
A23: Rent | B23: 584 | C23: 584 | D23: 584 | E23: 584 | F23: 584 | G23: 584 | H23: 584 | I23: 584 | J23: 584 | K23: 584 | L23: 584 | M23: 584 | N23: 584 | O23: =SUM(B23:N23) -> 7592
A24: Wages/Salaries | B24: 1094 | C24: 1094 | D24: 1094 | E24: 1094 | F24: 1094 | G24: 1094 | H24: 1094 | I24: 1094 | J24: 1094 | K24: 1094 | L24: 1094 | M24: 1094 | N24: 1094 | O24: =SUM(B24:N24) -> 14222
A25: Rent | B25: 567.54 | C25: 567.54 | D25: 567.54 | E25: 567.54 | F25: 567.54 | G25: 567.54 | H25: 567.54 | I25: 567.54 | J25: 567.54 | K25: 567.54 | L25: 567.54 | M25: 567.54 | N25: 567.54 | O25: =SUM(B25:N25) -> 7378.02
A26: Motor Vehicle Insurances | E26: 111 | J26: 111 | N26: 111 | O26: =SUM(B26:N26) -> 333
A27: HP Vehicle | E27: 710 | J27: 710 | N27: 710 | O27: =SUM(B27:N27) -> 2130
A28: Income Protection | E28: 223 | J28: 223 | N28: 223 | O28: =SUM(B28:N28) -> 669
A29: Carpenter sub | C29: 3000 | E29: 3000 | G29: 3000 | I29: 3000 | K29: 3000 | M29: 3000 | O29: =SUM(B29:N29) -> 18000
A30: Concrete sub | B30: 5000 | I30: 10000 | O30: =SUM(B30:N30) -> 15000
A31: Brick sub | C31: 1000 | K31: 3000 | O31: =SUM(B31:N31) -> 4000
A32: Plumber sub | E32: 14000 | O32: =SUM(B32:N32) -> 14000
A33: Advertising - yellow pages | D33: 110 | I33: 110 | M33: 110 | O33: =SUM(B33:N33) -> 330
A34: CBUS Super | D34: 234 | G34: 234 | L34: 234 | O34: =SUM(B34:N34) -> 702
A35: HIA Subscriptions | F35: 44 | K35: 44 | O35: =SUM(B35:N35) -> 88
A36: Electricity | K36: 170 | O36: =SUM(B36:N36) -> 170
A37: Security | J37: 100 | O37: =SUM(B37:N37) -> 100
A38: Incidentals | B38: 30 | C38: 30 | D38: 30 | E38: 30 | F38: 30 | G38: 30 | H38: 30 | I38: 30 | J38: 30 | K38: 30 | L38: 30 | M38: 30 | N38: 30 | O38: =SUM(B38:N38) -> 390
A39: Render | D39: 7000 | O39: =SUM(B39:N39) -> 7000
A40: Credit Card | C40: 5000 | E40: 5000
...
